BEGIN:VCALENDAR
VERSION:2.0
PRODID:-//ChamberMaster//Event Calendar 2.0//EN
METHOD:PUBLISH
X-PUBLISHED-TTL:P1H
REFRESH-INTERVAL:P1H
CALSCALE:GREGORIAN
BEGIN:VTIMEZONE
TZID:America/New_York
BEGIN:DAYLIGHT
RRULE:FREQ=YEARLY;BYMONTH=3;BYDAY=2SU
DTSTART:20070101T000000
TZOFFSETFROM:-0500
TZOFFSETTO:-0400
TZNAME:Eastern Daylight Time
END:DAYLIGHT
BEGIN:STANDARD
RRULE:FREQ=YEARLY;BYMONTH=11;BYDAY=1SU
DTSTART:20070101T000000
TZOFFSETFROM:-0400
TZOFFSETTO:-0500
TZNAME:Eastern Standard Time
END:STANDARD
END:VTIMEZONE
BEGIN:VEVENT
DTSTART;TZID=America/New_York:20250428T180000
DTEND;TZID=America/New_York:20250428T210000
X-MICROSOFT-CDO-ALLDAYEVENT:FALSE
SUMMARY:ITALIAN STREET FOOD & ELEVENTHREE BEER NIGHT at Cremona
DESCRIPTION:ITALIAN STREET FOOD & ELEVENTHREE BEER NIGHT Monday\, April 28\, 2025 6-9p Cremona Scratch Italian - 109 North Hambden Street Chardon\, OH\, 44024 \nPartnering up with a local brewery and such an amazing one as Eleventhree Brewing Co.\, we are honored to be pairing beers and Italian cuisine to residents and visitors to Chardon. With expertly crafted beer and the knowledge of our chef team we are pleased to present a wonderful night to enjoy great food\, delicious craft beers and wonderful company during this tasting event. \nMake your reservation by contacting us: 440-286-1173 info@cremonachardon.com
X-ALT-DESC;FMTTYPE=text/html:<!DOCTYPE html><html><head><title></title></head><body aria-disabled="false"><p>ITALIAN STREET FOOD &amp\; ELEVENTHREE BEER NIGHT&nbsp\;</p><p>Monday\, April 28\, 2025 6-9p&nbsp\;</p><p>Cremona Scratch Italian - 109 North Hambden Street Chardon\, OH\, 44024&nbsp\;</p><p><br></p><p>Partnering up with a local brewery and such an amazing one as Eleventhree Brewing Co.\, we are honored to be pairing beers and Italian cuisine to residents and visitors to Chardon. With expertly crafted beer and the knowledge of our chef team we are pleased to present a wonderful night to enjoy great food\, delicious craft beers and wonderful company during this tasting event.&nbsp\;</p><p><br></p><p>Make your reservation by contacting us: 440-286-1173 info@cremonachardon.com</p></body></html>
LOCATION:109 North Hambden Street Chardon OH 44024
UID:e.2656.1178994
SEQUENCE:3
DTSTAMP:20260419T132039Z
URL:https://business.chardonchamber.com/businessafterhourseventcalendar/Details/italian-street-food-eleventhree-beer-night-at-cremona-1373782?sourceTypeId=Hub
END:VEVENT
END:VCALENDAR
