BEGIN:VCALENDAR
VERSION:2.0
PRODID:-//ChamberMaster//Event Calendar 2.0//EN
METHOD:PUBLISH
X-PUBLISHED-TTL:P1H
REFRESH-INTERVAL:P1H
CALSCALE:GREGORIAN
BEGIN:VTIMEZONE
TZID:America/New_York
BEGIN:DAYLIGHT
RRULE:FREQ=YEARLY;BYMONTH=3;BYDAY=2SU
DTSTART:20070101T000000
TZOFFSETFROM:-0500
TZOFFSETTO:-0400
TZNAME:Eastern Daylight Time
END:DAYLIGHT
BEGIN:STANDARD
RRULE:FREQ=YEARLY;BYMONTH=11;BYDAY=1SU
DTSTART:20070101T000000
TZOFFSETFROM:-0400
TZOFFSETTO:-0500
TZNAME:Eastern Standard Time
END:STANDARD
END:VTIMEZONE
BEGIN:VEVENT
DTSTART;TZID=America/New_York:20251029T170000
DTEND;TZID=America/New_York:20251029T190000
X-MICROSOFT-CDO-ALLDAYEVENT:FALSE
SUMMARY:Business After Hours | Boo-siness Bash with the Chagrin Valley Chamber
DESCRIPTION:The Chagrin Valley Chamber and the Chardon Chamber are teaming up for a special After Hours Boo-siness Bash! \nJoin us for a fang-tastically spirited night of making new connections and catching up with old friends! \nDress in your best Halloween costume for a chance to win amazing prizes. This is the perfect opportunity to expand your network in a fun and festive atmosphere. Don't ghost us and miss out! \nWednesday Oct 29\, 2025 from 5:00 PM - 7:00 PM EDT at Reithoffer's (Hoff's) 17711 Ravenna Rd Auburn Township OH 44023 -Free for CVCC and Chardon members! -Cash bar -Lite bites sponosred by Sirna's \nClick HERE to register!
X-ALT-DESC;FMTTYPE=text/html:<!DOCTYPE html><html><head><title></title><link rel="stylesheet" href="chrome-extension://ihcjicgdanjaechkgeegckofjjedodee/app/content-style.css"></head><body aria-disabled="false"><p>The Chagrin Valley Chamber and the Chardon Chamber are teaming up for a special After Hours Boo-siness Bash!&nbsp\;</p><p><br></p><p>Join us for a fang-tastically spirited night of making new connections and catching up with old friends!&nbsp\;</p><p><br></p><p>Dress in your best Halloween costume for a chance to win amazing prizes. This is the perfect opportunity to expand your network in a fun and festive atmosphere. Don&rsquo\;t ghost us and miss out!&nbsp\;</p><p><br></p><p>Wednesday Oct 29\, 2025 from 5:00 PM - 7:00 PM EDT at Reithoffer&#39\;s (Hoff&#39\;s) 17711 Ravenna Rd Auburn Township OH 44023&nbsp\;</p><p>-Free for CVCC and Chardon members!&nbsp\;</p><p>-Cash bar&nbsp\;</p><p>-Lite bites sponosred by Sirna&#39\;s&nbsp\;</p><p><br></p><p>Click <a fr-original-style="" href="https://www.cvcc.org/events/details/meet-me-5-at-reithoffers-26402" rel="noopener noreferrer" style="user-select: auto\;" target="_blank"><strong fr-original-style="" style="font-weight: 700\;">HERE</strong></a> to register!</p></body></html>
LOCATION:17711 Ravenna Rd Auburn Township 44024
UID:e.2656.1284870
SEQUENCE:3
DTSTAMP:20260420T084022Z
URL:https://business.chardonchamber.com/businessafterhourseventcalendar/Details/business-after-hours-boo-siness-bash-with-the-chagrin-valley-chamber-1504361?sourceTypeId=Hub
END:VEVENT
END:VCALENDAR
