BEGIN:VCALENDAR
VERSION:2.0
PRODID:-//ChamberMaster//Event Calendar 2.0//EN
METHOD:PUBLISH
X-PUBLISHED-TTL:P1H
REFRESH-INTERVAL:P1H
CALSCALE:GREGORIAN
BEGIN:VTIMEZONE
TZID:America/New_York
BEGIN:DAYLIGHT
RRULE:FREQ=YEARLY;BYMONTH=3;BYDAY=2SU
DTSTART:20070101T000000
TZOFFSETFROM:-0500
TZOFFSETTO:-0400
TZNAME:Eastern Daylight Time
END:DAYLIGHT
BEGIN:STANDARD
RRULE:FREQ=YEARLY;BYMONTH=11;BYDAY=1SU
DTSTART:20070101T000000
TZOFFSETFROM:-0400
TZOFFSETTO:-0500
TZNAME:Eastern Standard Time
END:STANDARD
END:VTIMEZONE
BEGIN:VEVENT
DTSTART;TZID=America/New_York:20260520T083000
DTEND;TZID=America/New_York:20260520T100000
X-MICROSOFT-CDO-ALLDAYEVENT:FALSE
SUMMARY:2026 State of the City Breakfast
DESCRIPTION:2026 State of the City Breakfast - $12/person.\nJoin us for an inside look at the City of Chardon's growth\, goals\, and impact on local business at our State of the City Breakfast event\, presented in partnership with the City of Chardon.\nDate: May 20th Doors Open: 8:30 AM   Enjoy breakfast and networking  Presentation: 9:00 PM\, followed by Q&A  Location: Heritage House at 111 E. Park Street\nHear directly from City department heads as they share updates on current projects\, future plans\, and what it all means for your business.Breakfast is included. RSVP required.  Space is limited and a wait list will be available
X-ALT-DESC;FMTTYPE=text/html:<!DOCTYPE html><html><head><title></title></head><body aria-disabled="false"><p>2026 State of the City Breakfast - $12/person.</p><p><br></p><p>Join us for an inside look at the City of Chardon&#39\;s growth\, goals\, and impact on local business at our State of the City Breakfast event\, presented in partnership with the City of Chardon.</p><p><br></p><p>Date: May 20th&nbsp\;</p><p>Doors Open: 8:30 AM &ndash\; Enjoy breakfast and networking &nbsp\;</p><p>Presentation: 9:00 PM\, followed by Q&amp\;A &nbsp\;</p><p>Location: Heritage House at 111 E. Park Street</p><p><br></p><p>Hear directly from City department heads as they share updates on current projects\, future plans\, and what it all means for your business.</p><p>Breakfast is included. RSVP required. &nbsp\;Space is limited and a wait list will be available</p></body></html>
LOCATION:111 E. Park Street Chardon OH 44024
UID:e.2656.1450689
SEQUENCE:3
DTSTAMP:20260424T083222Z
URL:https://business.chardonchamber.com/businessafterhourseventcalendar/Details/2026-state-of-the-city-breakfast-1718340?sourceTypeId=Hub
END:VEVENT
END:VCALENDAR
